BEGIN:VCALENDAR
VERSION:2.0
PRODID:Imitheme.com
BEGIN:VEVENT
UID:20260421T082147-968436386
DTSTAMP;TZID=UTC:1776759707
DTSTART;TZID=America/Los_Angeles:20260421T082147
DTEND;TZID=America/Los_Angeles:20260421T082147
SUMMARY:Vacances intermédiaires N°5
LOCATION:
DESCRIPTION:   https://ecole-carmel-saint-joseph.ma/eventer/vacances-intermediaires-n5/
URL:https://ecole-carmel-saint-joseph.ma/eventer/vacances-intermediaires-n5/
END:VEVENT
END:VCALENDAR
